BEGIN:VCALENDAR
VERSION:2.0
PRODID:-//wp-events-plugin.com//7.2.3.1//EN
TZID:Europe/Berlin
X-WR-TIMEZONE:Europe/Berlin
BEGIN:VEVENT
UID:132@sietareu.org
DTSTART;TZID=Europe/Berlin:20230223T180000
DTEND;TZID=Europe/Berlin:20230223T190000
DTSTAMP:20230209T195457Z
URL:https://sietareu.org/events/inclusive-intelligence-how-to-be-a-role-mo
 del-for-diversity-and-inclusion-in-the-workplace/
SUMMARY:Inclusive Intelligence: How to be a Role Model for Diversity and I
 nclusion in the Workplace. 
DESCRIPTION:Furkan Karayel is multi award winning diversity and inclusion s
 peaker and author of the best selling book “Inclusive Intelligence: H
 ow to be a Role Model for Diversity and Inclusion in the Workplace”. Fu
 rkan lectures at the Equality\, Diversity and Inclusion Master’s program
  at Dún Laoghaire Institute of Art\, Design and Technology. Her passion i
 s leveraging women-in-tech leadership\, diversity and...\n\nhttps://sietar
 eu.org/events/inclusive-intelligence-how-to-be-a-role-model-for-diversity-
 and-inclusion-in-the-workplace/
ATTACH;FMTTYPE=image/jpeg:https://sietareu.org/wp-content/uploads/FurkanKa
 rayel_Headshot_Large.jpg
CATEGORIES:Webinar
END:VEVENT
BEGIN:VTIMEZONE
TZID:Europe/Berlin
X-LIC-LOCATION:Europe/Berlin
BEGIN:STANDARD
DTSTART:20221030T020000
TZOFFSETFROM:+0200
TZOFFSETTO:+0100
TZNAME:CET
END:STANDARD
END:VTIMEZONE
END:VCALENDAR