BEGIN:VCALENDAR
VERSION:2.0
PRODID:-//wp-events-plugin.com//7.2.3.1//EN
TZID:Europe/Berlin
X-WR-TIMEZONE:Europe/Berlin
BEGIN:VEVENT
UID:213@sietareu.org
DTSTART;TZID=Europe/Berlin:20241016T173000
DTEND;TZID=Europe/Berlin:20241016T194500
DTSTAMP:20241001T173612Z
URL:https://sietareu.org/events/inclusive-communication-and-the-topoi-mode
 l-beyond-intercultural-communication-cultures-dont-meet-people-do/
SUMMARY:Inclusive communication and the TOPOI-model. Beyond intercultural c
 ommunication: ‘Cultures don’t meet people do.’
DESCRIPTION:International workshop in cooperation: SIETAR Europa\, SIETAR F
 rance and SIETAR Polska Inclusive communication goes beyond the culturalis
 t character of intercultural communication which is still dominant in the 
 intercultural field. Culturalist approaches stimulate learners to ‘zoom 
 out’ (Jürgen Bolten) from the actual individual persons in an interacti
 on and to reduce them to larger schematic cultures and...\n\nhttps://sieta
 reu.org/events/inclusive-communication-and-the-topoi-model-beyond-intercul
 tural-communication-cultures-dont-meet-people-do/
CATEGORIES:Webinar
LOCATION:https://us02web.zoom.us/j/88618332668?pwd=hWvWFsaio0c8BjF8Io0kHrWC
 KFXTjr.1
END:VEVENT
BEGIN:VTIMEZONE
TZID:Europe/Berlin
X-LIC-LOCATION:Europe/Berlin
BEGIN:DAYLIGHT
DTSTART:20240331T030000
TZOFFSETFROM:+0100
TZOFFSETTO:+0200
TZNAME:CEST
END:DAYLIGHT
END:VTIMEZONE
END:VCALENDAR