BEGIN:VCALENDAR
VERSION:2.0
PRODID:-//wp-events-plugin.com//7.2.3.1//EN
TZID:Europe/Berlin
X-WR-TIMEZONE:Europe/Berlin
BEGIN:VEVENT
UID:68@sietareu.org
DTSTART;TZID=Europe/Berlin:20220823T180000
DTEND;TZID=Europe/Berlin:20220823T190000
DTSTAMP:20220324T082702Z
URL:https://sietareu.org/events/immersive-technologies-and-the-embodiment-
 of-intercultural-understanding/
SUMMARY:Immersive Technologies and the Embodiment of Intercultural Understa
 nding
DESCRIPTION:This webinar explores how immersive technologies can extend the
  learning objectives of intercultural training. Technologies such as virtu
 al reality provide the illusion of ‘embodying’ another\, thus presenti
 ng new forms of experiential-based awareness that exceed the limitations o
 f intercultural training. For example\, BeAnotherLab uses cognitive scienc
 e\, virtual reality and performances to test the limits of identity\,...\n
 \nhttps://sietareu.org/events/immersive-technologies-and-the-embodiment-of
 -intercultural-understanding/
ATTACH;FMTTYPE=image/jpeg:https://sietareu.org/wp-content/uploads/iconWebi
 nar300.png
CATEGORIES:Webinar
END:VEVENT
BEGIN:VTIMEZONE
TZID:Europe/Berlin
X-LIC-LOCATION:Europe/Berlin
BEGIN:DAYLIGHT
DTSTART:20220327T030000
TZOFFSETFROM:+0100
TZOFFSETTO:+0200
TZNAME:CEST
END:DAYLIGHT
END:VTIMEZONE
END:VCALENDAR