BEGIN:VCALENDAR
VERSION:2.0
PRODID:-//wp-events-plugin.com//7.2.3.1//EN
TZID:Europe/Berlin
X-WR-TIMEZONE:Europe/Berlin
BEGIN:VEVENT
UID:37@sietareu.org
DTSTART;TZID=Europe/Berlin:20220223T180000
DTEND;TZID=Europe/Berlin:20220223T190000
DTSTAMP:20220316T091656Z
URL:https://sietareu.org/events/how-to-rock-the-virtual-space/
SUMMARY:HOW TO ROCK THE VIRTUAL SPACE: What are the key factors when design
 ing EXTRAordinary and memorable virtual learning journeys?
DESCRIPTION:The Global Case Study Challenge (#GCSC) is a real intercultura
 l and virtual learning journey\, which provides the learners with invaluab
 le experience for their private and professional lives. Professors and lec
 turers from more than 30 universities from across the globe have joined th
 is experiential learning activity\, with some 1500 students\, over the pas
 t 4 years!This SIETAR Europa...\n\nhttps://sietareu.org/events/how-to-rock
 -the-virtual-space/
ATTACH;FMTTYPE=image/jpeg:https://sietareu.org/wp-content/uploads/iconWebi
 nar300.png
CATEGORIES:Webinar
END:VEVENT
BEGIN:VTIMEZONE
TZID:Europe/Berlin
X-LIC-LOCATION:Europe/Berlin
BEGIN:STANDARD
DTSTART:20211031T020000
TZOFFSETFROM:+0200
TZOFFSETTO:+0100
TZNAME:CET
END:STANDARD
END:VTIMEZONE
END:VCALENDAR