BEGIN:VCALENDAR
VERSION:2.0
PRODID:-//wp-events-plugin.com//7.2.3.1//EN
TZID:Europe/Berlin
X-WR-TIMEZONE:Europe/Berlin
BEGIN:VEVENT
UID:43@sietareu.org
DTSTART;TZID=Europe/Berlin:20220216T170000
DTEND;TZID=Europe/Berlin:20220216T183000
DTSTAMP:20220316T091523Z
URL:https://sietareu.org/events/how-to-apply-visual-storytelling/
SUMMARY:How to apply visual storytelling to foster diversity\, inclusion an
 d belonging?
DESCRIPTION:„Words are so Generation Y“ say young professionals\, leade
 rs and representatives of the generation Z (born in the late 1990s and aro
 und 2000) How can we work with VISUAL STORYTELLING to reach them and not o
 nly attract their attention but also foster diversity and inclusion and en
 hance intercultural competencies. By the way\, the visual turn\,...\n\nhtt
 ps://sietareu.org/events/how-to-apply-visual-storytelling/
ATTACH;FMTTYPE=image/jpeg:https://sietareu.org/wp-content/uploads/iconPlay
 ground300.png
CATEGORIES:Intercultural Playground
END:VEVENT
BEGIN:VTIMEZONE
TZID:Europe/Berlin
X-LIC-LOCATION:Europe/Berlin
BEGIN:STANDARD
DTSTART:20211031T020000
TZOFFSETFROM:+0200
TZOFFSETTO:+0100
TZNAME:CET
END:STANDARD
END:VTIMEZONE
END:VCALENDAR