BEGIN:VCALENDAR
VERSION:2.0
PRODID:-//wp-events-plugin.com//7.2.3.1//EN
TZID:Europe/Berlin
X-WR-TIMEZONE:Europe/Berlin
BEGIN:VEVENT
UID:79@sietareu.org
DTSTART;TZID=Europe/Berlin:20220930T110000
DTEND;TZID=Europe/Berlin:20220930T114500
DTSTAMP:20220313T120537Z
URL:https://sietareu.org/events/how-can-we-navigate-uncertainty-and-provid
 e-for-psychological-safety-in-global-teams/
SUMMARY:How can we navigate uncertainty and provide for psychological safet
 y in global teams?
DESCRIPTION:Burning question: How can we navigate uncertainty and provide f
 or psychological safety in global teams? Thanks for the contribution to A
 nja Achenbach from SIETAR Italy who will start the CCCBreak with a brief 3
 -5 mins introduction into the topic. Barbara Covarrubias Venegas from the 
 SIETAR Europa Member’s Benefits team will moderate the session.. &nbsp\;
  You are...\n\nhttps://sietareu.org/events/how-can-we-navigate-uncertainty
 -and-provide-for-psychological-safety-in-global-teams/
ATTACH;FMTTYPE=image/jpeg:https://sietareu.org/wp-content/uploads/Sietar_I
 cons_Tasse.png
CATEGORIES:CCC Break
END:VEVENT
BEGIN:VTIMEZONE
TZID:Europe/Berlin
X-LIC-LOCATION:Europe/Berlin
BEGIN:DAYLIGHT
DTSTART:20220327T030000
TZOFFSETFROM:+0100
TZOFFSETTO:+0200
TZNAME:CEST
END:DAYLIGHT
END:VTIMEZONE
END:VCALENDAR