BEGIN:VCALENDAR
VERSION:2.0
PRODID:-//wp-events-plugin.com//7.2.3.1//EN
TZID:Europe/Berlin
X-WR-TIMEZONE:Europe/Berlin
BEGIN:VEVENT
UID:163@sietareu.org
DTSTART;TZID=Europe/Berlin:20231124T110000
DTEND;TZID=Europe/Berlin:20231124T114500
DTSTAMP:20231121T121802Z
URL:https://sietareu.org/events/how-can-we-explore-cultural-agility-in-job
 -and-talent-search/
SUMMARY:How can we explore cultural Agility in Job and Talent Search?
DESCRIPTION:Please save the date for our upcoming Cross Cultural Coffee bre
 ak on 24 November 2023 at 11h00- 11h45 CET on Zoom. Burning Questions How 
 can we explore cultural Agility in Job and Talent Search? How do I get a J
 ob in a different country with language and culture differences? What can 
 companies do to find...\n\nhttps://sietareu.org/events/how-can-we-explore-
 cultural-agility-in-job-and-talent-search/
CATEGORIES:CCC Break
END:VEVENT
BEGIN:VTIMEZONE
TZID:Europe/Berlin
X-LIC-LOCATION:Europe/Berlin
BEGIN:STANDARD
DTSTART:20231029T020000
TZOFFSETFROM:+0200
TZOFFSETTO:+0100
TZNAME:CET
END:STANDARD
END:VTIMEZONE
END:VCALENDAR