BEGIN:VCALENDAR
VERSION:2.0
PRODID:-//wp-events-plugin.com//7.2.3.1//EN
TZID:Europe/Berlin
X-WR-TIMEZONE:Europe/Berlin
BEGIN:VEVENT
UID:84@sietareu.org
DTSTART;TZID=Europe/Berlin:20221216T110000
DTEND;TZID=Europe/Berlin:20221216T114500
DTSTAMP:20220313T120611Z
URL:https://sietareu.org/events/how-can-we-enrich-our-online-intercultural
 -inclusivity-through-the-arts/
SUMMARY:How can we enrich our online intercultural inclusivity through the 
 arts?
DESCRIPTION:Burning question: How can we enrich our online intercultural in
 clusivity through the arts? Thanks for the contribution to Vera Dickman fr
 om SIETAR France who will start the CCCBreak with a brief 3-5 mins introdu
 ction into the topic. Gradiola Kapaj from the SIETAR Europa Member’s Ben
 efits team will moderate the session &nbsp\; You are asking yourself...\n\
 nhttps://sietareu.org/events/how-can-we-enrich-our-online-intercultural-in
 clusivity-through-the-arts/
ATTACH;FMTTYPE=image/jpeg:https://sietareu.org/wp-content/uploads/Sietar_I
 cons_Tasse.png
CATEGORIES:CCC Break
END:VEVENT
BEGIN:VTIMEZONE
TZID:Europe/Berlin
X-LIC-LOCATION:Europe/Berlin
BEGIN:STANDARD
DTSTART:20221030T020000
TZOFFSETFROM:+0200
TZOFFSETTO:+0100
TZNAME:CET
END:STANDARD
END:VTIMEZONE
END:VCALENDAR