BEGIN:VCALENDAR
VERSION:2.0
PRODID:-//wp-events-plugin.com//7.2.3.1//EN
TZID:Europe/Berlin
X-WR-TIMEZONE:Europe/Berlin
BEGIN:VEVENT
UID:69@sietareu.org
DTSTART;TZID=Europe/Berlin:20221024T180000
DTEND;TZID=Europe/Berlin:20221024T190000
DTSTAMP:20221011T124045Z
URL:https://sietareu.org/events/harnessing-neuroplasticity-for-intercultur
 al-practice/
SUMMARY:Harnessing Neuroplasticity For Intercultural Practice
DESCRIPTION:This Webinar discusses brain neuroplasticity\, its pervasivenes
 s in our everyday lives\, and especially its remarkable ability to reshape
  memories and thought processes. How can practitioners in the intercultura
 l field harness its remarkable power to alter mental pathways for paradigm
  changes in thinking? Drawing on three guiding principles of neuroplastici
 ty – contemplation (Chierchia &amp\; Singer 2017)\,...\n\nhttps://sietar
 eu.org/events/harnessing-neuroplasticity-for-intercultural-practice/
ATTACH;FMTTYPE=image/jpeg:https://sietareu.org/wp-content/uploads/iconWebi
 nar300.png
CATEGORIES:Webinar
END:VEVENT
BEGIN:VTIMEZONE
TZID:Europe/Berlin
X-LIC-LOCATION:Europe/Berlin
BEGIN:DAYLIGHT
DTSTART:20220327T030000
TZOFFSETFROM:+0100
TZOFFSETTO:+0200
TZNAME:CEST
END:DAYLIGHT
END:VTIMEZONE
END:VCALENDAR