BEGIN:VCALENDAR
VERSION:2.0
PRODID:-//wp-events-plugin.com//7.2.3.1//EN
TZID:Europe/Berlin
X-WR-TIMEZONE:Europe/Berlin
BEGIN:VEVENT
UID:160@sietareu.org
DTSTART;TZID=Europe/Berlin:20231027T190000
DTEND;TZID=Europe/Berlin:20231027T200000
DTSTAMP:20231024T190224Z
URL:https://sietareu.org/events/group-discussion-depolarising-our-world/
SUMMARY:Group Discussion: Depolarising Our World
DESCRIPTION:Register here: https://us02web.zoom.us/meeting/register/tZEpcuG
 pqjItHNMdUQ7J1R2y548_k02GnPt2 Register here: https://us02web.zoom.us/meeti
 ng/register/tZEpcuGpqjItHNMdUQ7J1R2y548_k02GnPt2\n\nhttps://sietareu.org/e
 vents/group-discussion-depolarising-our-world/
CATEGORIES:Special Event
END:VEVENT
BEGIN:VTIMEZONE
TZID:Europe/Berlin
X-LIC-LOCATION:Europe/Berlin
BEGIN:DAYLIGHT
DTSTART:20230326T030000
TZOFFSETFROM:+0100
TZOFFSETTO:+0200
TZNAME:CEST
END:DAYLIGHT
END:VTIMEZONE
END:VCALENDAR