BEGIN:VCALENDAR
VERSION:2.0
PRODID:-//wp-events-plugin.com//7.2.3.1//EN
TZID:Europe/Berlin
X-WR-TIMEZONE:Europe/Berlin
BEGIN:VEVENT
UID:72@sietareu.org
DTSTART;TZID=Europe/Berlin:20220615T170000
DTEND;TZID=Europe/Berlin:20220615T183000
DTSTAMP:20220316T091557Z
URL:https://sietareu.org/events/global-teams-2050/
SUMMARY:GLOBAL TEAMS 2050
DESCRIPTION:GLOBAL TEAMS 2050 - An interactive intercultural game designed 
 for team managers and all types of employees dealing with change facilitat
 ed by Anja Achenbach and Maria Mihaela Barbieru Globalization and digitali
 zation have changed teamwork and the pandemic has increased this process t
 remendously. Our game puts the participants in another one’s shoes in or
 der to enhance...\n\nhttps://sietareu.org/events/global-teams-2050/
ATTACH;FMTTYPE=image/jpeg:https://sietareu.org/wp-content/uploads/iconPlay
 ground300.png
CATEGORIES:Intercultural Playground
END:VEVENT
BEGIN:VTIMEZONE
TZID:Europe/Berlin
X-LIC-LOCATION:Europe/Berlin
BEGIN:DAYLIGHT
DTSTART:20220327T030000
TZOFFSETFROM:+0100
TZOFFSETTO:+0200
TZNAME:CEST
END:DAYLIGHT
END:VTIMEZONE
END:VCALENDAR