BEGIN:VCALENDAR
VERSION:2.0
PRODID:-//wp-events-plugin.com//7.2.3.1//EN
TZID:Europe/Berlin
X-WR-TIMEZONE:Europe/Berlin
BEGIN:VEVENT
UID:165@sietareu.org
DTSTART;TZID=Europe/Berlin:20231221T170000
DTEND;TZID=Europe/Berlin:20231221T190000
DTSTAMP:20231215T111349Z
URL:https://sietareu.org/events/global-happy-new-year-2024/
SUMMARY:Global Happy New Year 2024
DESCRIPTION:SIETAR is inviting you to the Global Happy New Year 2024. It wi
 ll be a Celebration with Poetry Reading from around the World\, Happy New 
 Year Messages from SIETAR Global Community representatives and Music Dj wi
 th Virtual SpaceHero. It also includes a SIETAR Volunteer Appreciation for
  our beloved members which have contributed to the growth...\n\nhttps://si
 etareu.org/events/global-happy-new-year-2024/
CATEGORIES:Special Event
END:VEVENT
BEGIN:VTIMEZONE
TZID:Europe/Berlin
X-LIC-LOCATION:Europe/Berlin
BEGIN:STANDARD
DTSTART:20231029T020000
TZOFFSETFROM:+0200
TZOFFSETTO:+0100
TZNAME:CET
END:STANDARD
END:VTIMEZONE
END:VCALENDAR