BEGIN:VCALENDAR
VERSION:2.0
PRODID:-//wp-events-plugin.com//7.2.3.1//EN
TZID:Europe/Berlin
X-WR-TIMEZONE:Europe/Berlin
BEGIN:VEVENT
UID:86@sietareu.org
DTSTART;TZID=Europe/Berlin:20220714T180000
DTEND;TZID=Europe/Berlin:20220714T190000
DTSTAMP:20220630T091830Z
URL:https://sietareu.org/events/global-education-cross-cultural-wave/
SUMMARY:Global Education + Cross-Cultural Wave
DESCRIPTION:Prior to the Pandemic\, the Global Learning Crisis resulted in 
 a quarter of a billion children currently out of school\, even more\, 330 
 million children are in school but failing to learn. Today\, those numbers
  have increased significantly in a way that as an educator – my heart is
  broken. The uncertainty of a pandemic...\n\nhttps://sietareu.org/events/g
 lobal-education-cross-cultural-wave/
ATTACH;FMTTYPE=image/jpeg:https://sietareu.org/wp-content/uploads/iconWebi
 nar300.png
CATEGORIES:Webinar
END:VEVENT
BEGIN:VTIMEZONE
TZID:Europe/Berlin
X-LIC-LOCATION:Europe/Berlin
BEGIN:DAYLIGHT
DTSTART:20220327T030000
TZOFFSETFROM:+0100
TZOFFSETTO:+0200
TZNAME:CEST
END:DAYLIGHT
END:VTIMEZONE
END:VCALENDAR