BEGIN:VCALENDAR
VERSION:2.0
PRODID:-//wp-events-plugin.com//7.2.3.1//EN
TZID:Europe/Berlin
X-WR-TIMEZONE:Europe/Berlin
BEGIN:VEVENT
UID:184@sietareu.org
DTSTART;TZID=Europe/Berlin:20240608T090000
DTEND;TZID=Europe/Berlin:20240608T103000
DTSTAMP:20240419T124323Z
URL:https://sietareu.org/events/gam2024/
SUMMARY:SIETAR Europa –  General Assembly Meeting
DESCRIPTION:All of you are invited to join the annual General Assembly whic
 h will take place in Lille/France on June 8th\, 2024\, from 9:00 am until 
 10:30 am CET We will be meeting face to face in Lille during the Congress\
 , as well as virtual attendance for those who will not be in Lille. Once a
 ...\n\nhttps://sietareu.org/events/gam2024/
CATEGORIES:Special Event
END:VEVENT
BEGIN:VTIMEZONE
TZID:Europe/Berlin
X-LIC-LOCATION:Europe/Berlin
BEGIN:DAYLIGHT
DTSTART:20240331T030000
TZOFFSETFROM:+0100
TZOFFSETTO:+0200
TZNAME:CEST
END:DAYLIGHT
END:VTIMEZONE
END:VCALENDAR