BEGIN:VCALENDAR
VERSION:2.0
PRODID:-//wp-events-plugin.com//7.2.3.1//EN
TZID:Europe/Berlin
X-WR-TIMEZONE:Europe/Berlin
BEGIN:VEVENT
UID:45@sietareu.org
DTSTART;TZID=Europe/Berlin:20220207T150000
DTEND;TZID=Europe/Berlin:20220207T160000
DTSTAMP:20220316T091347Z
URL:https://sietareu.org/events/february-dmeetup/
SUMMARY:ECILP project
DESCRIPTION:ECILP project - European Certificate for Intercultural Learning
  Professionals The Project aims to discuss and suggest the professional st
 andards framework for accreditation and self-assessment of intercultural p
 rofessionals. On behalf of SIETAR Germany and the entire ECILP Team\, Chri
 stiena Kirchhoff presents ECILP: the project's goal\, status quo\, and nex
 t steps. Her presentation will launch the discussion...\n\nhttps://sietare
 u.org/events/february-dmeetup/
ATTACH;FMTTYPE=image/jpeg:https://sietareu.org/wp-content/uploads/iconDMee
 tUp300a.png
CATEGORIES:DMeetUp
END:VEVENT
BEGIN:VTIMEZONE
TZID:Europe/Berlin
X-LIC-LOCATION:Europe/Berlin
BEGIN:STANDARD
DTSTART:20211031T020000
TZOFFSETFROM:+0200
TZOFFSETTO:+0100
TZNAME:CET
END:STANDARD
END:VTIMEZONE
END:VCALENDAR