BEGIN:VCALENDAR
VERSION:2.0
PRODID:-//wp-events-plugin.com//7.2.3.1//EN
TZID:Europe/Berlin
X-WR-TIMEZONE:Europe/Berlin
BEGIN:VEVENT
UID:127@sietareu.org
DTSTART;TZID=Europe/Berlin:20230206T150000
DTEND;TZID=Europe/Berlin:20230206T160000
DTSTAMP:20230129T105955Z
URL:https://sietareu.org/events/feb23-dmeetup/
SUMMARY:The War from Inside and Outside
DESCRIPTION:Almost a year ago\, in February 2022 russia started its full-sc
 ale invasion in Ukraine. Those 12 past months changed a lot in the world a
 nd we are all impacted by the war in this or that way\, both as people and
  interculturalists. As we know\, this is not a war for territories but a w
 ar...\n\nhttps://sietareu.org/events/feb23-dmeetup/
ATTACH;FMTTYPE=image/jpeg:https://sietareu.org/wp-content/uploads/iconDMee
 tUp300a.png
CATEGORIES:DMeetUp
END:VEVENT
BEGIN:VTIMEZONE
TZID:Europe/Berlin
X-LIC-LOCATION:Europe/Berlin
BEGIN:STANDARD
DTSTART:20221030T020000
TZOFFSETFROM:+0200
TZOFFSETTO:+0100
TZNAME:CET
END:STANDARD
END:VTIMEZONE
END:VCALENDAR