BEGIN:VCALENDAR
VERSION:2.0
PRODID:-//wp-events-plugin.com//7.2.3.1//EN
TZID:Europe/Berlin
X-WR-TIMEZONE:Europe/Berlin
BEGIN:VEVENT
UID:234@sietareu.org
DTSTART;TZID=Europe/Berlin:20250616T150000
DTEND;TZID=Europe/Berlin:20250616T160000
DTSTAMP:20250611T211151Z
URL:https://sietareu.org/events/exclusive-webinar-w-helen-spencer-oatey/
SUMMARY:Exclusive Webinar w/ Helen Spencer-Oatey
DESCRIPTION:Dear SIETAR Europa Members\, We are delighted to invite you to 
 a thought-provoking and insightful webinar led by renowned intercultural c
 ommunication expert Helen Spencer-Oatey. Over 30 years ago\, Jan Blommaert
  famously asked\, “How much culture is there in intercultural communicat
 ion?” Today\, that question resonates more than ever. In this exclusive 
 session\, Helen Spencer-Oatey revisits this...\n\nhttps://sietareu.org/eve
 nts/exclusive-webinar-w-helen-spencer-oatey/
ATTACH;FMTTYPE=image/jpeg:https://sietareu.org/wp-content/uploads/iconWebi
 nar300.png
CATEGORIES:Webinar
END:VEVENT
BEGIN:VTIMEZONE
TZID:Europe/Berlin
X-LIC-LOCATION:Europe/Berlin
BEGIN:DAYLIGHT
DTSTART:20250330T030000
TZOFFSETFROM:+0100
TZOFFSETTO:+0200
TZNAME:CEST
END:DAYLIGHT
END:VTIMEZONE
END:VCALENDAR