BEGIN:VCALENDAR
VERSION:2.0
PRODID:-//wp-events-plugin.com//7.2.3.1//EN
TZID:Europe/Berlin
X-WR-TIMEZONE:Europe/Berlin
BEGIN:VEVENT
UID:173@sietareu.org
DTSTART;TZID=Europe/Berlin:20240304T150000
DTEND;TZID=Europe/Berlin:20240304T160000
DTSTAMP:20240227T005508Z
URL:https://sietareu.org/events/dmeetup-mar2024/
SUMMARY:DMeetUp w/ Henri de Jongste "Humour. Norms. Culture"
DESCRIPTION:Dear Direct Members and all SIETARians\, Do you like humour? Ar
 e you always open to sharing jokes? Don’t you miss a good opportunity to
  laugh? Then you might be interested to learn more about "Humour\, norms\,
  and culture" There is no human community in which people do not regularly
  exchange jokes\, so it is safe...\n\nhttps://sietareu.org/events/dmeetup-
 mar2024/
ATTACH;FMTTYPE=image/jpeg:https://sietareu.org/wp-content/uploads/iconDMee
 tUp300a.png
CATEGORIES:DMeetUp
END:VEVENT
BEGIN:VTIMEZONE
TZID:Europe/Berlin
X-LIC-LOCATION:Europe/Berlin
BEGIN:STANDARD
DTSTART:20231029T020000
TZOFFSETFROM:+0200
TZOFFSETTO:+0100
TZNAME:CET
END:STANDARD
END:VTIMEZONE
END:VCALENDAR