BEGIN:VCALENDAR
VERSION:2.0
PRODID:-//wp-events-plugin.com//7.2.3.1//EN
TZID:Europe/Berlin
X-WR-TIMEZONE:Europe/Berlin
BEGIN:VEVENT
UID:170@sietareu.org
DTSTART;TZID=Europe/Berlin:20240205T150000
DTEND;TZID=Europe/Berlin:20240205T160000
DTSTAMP:20240206T091452Z
URL:https://sietareu.org/events/dmeetup-feb2024/
SUMMARY:DMeetUp w/ Dr. George Simons: The Culture of SIETAR
DESCRIPTION:With the beginning of the new year\, it is exciting to welcome 
 in - with you! - new ideas and perspectives. Hopefully your 2024 will be f
 ull of joy\, prosperity\, safety and good health. It is a pleasure to anno
 unce our 39th DMeetUp: The Culture of SIETAR\, Dr. George Simons\, Presen
 ter. The DMeetUp will be on 5 February\,...\n\nhttps://sietareu.org/even
 ts/dmeetup-feb2024/
ATTACH;FMTTYPE=image/jpeg:https://sietareu.org/wp-content/uploads/iconDMee
 tUp300a.png
CATEGORIES:DMeetUp
END:VEVENT
BEGIN:VTIMEZONE
TZID:Europe/Berlin
X-LIC-LOCATION:Europe/Berlin
BEGIN:STANDARD
DTSTART:20231029T020000
TZOFFSETFROM:+0200
TZOFFSETTO:+0100
TZNAME:CET
END:STANDARD
END:VTIMEZONE
END:VCALENDAR