BEGIN:VCALENDAR
VERSION:2.0
PRODID:-//wp-events-plugin.com//7.2.3.1//EN
TZID:Europe/Berlin
X-WR-TIMEZONE:Europe/Berlin
BEGIN:VEVENT
UID:229@sietareu.org
DTSTART;TZID=Europe/Amsterdam:20250526T180000
DTEND;TZID=Europe/Amsterdam:20250526T190000
DTSTAMP:20250517T094619Z
URL:https://sietareu.org/events/disruption-or-division-deib-in-the-age-of-
 populism-and-techno-elitism/
SUMMARY:Disruption or Division? DEIB in the Age of Populism and Techno-Elit
 ism
DESCRIPTION:You're Invited: SIETAR Europa Webinar Title: Disruption or Divi
 sion? DEIB in the Age of Populism and Techno-Elitism Date: Monday\, 26 May
  2025 Time: 18:00–19:00 CET Location: Online via Zoom Register here: htt
 ps://us02web.zoom.us/meeting/register/rnKvnB_KRZiNjLZJuggiMg Join us for a
  timely and thought-provoking webinar exploring the future of Diversity\, 
 Equity\, Inclusion\, and Belonging (DEIB) amidst the global rise of...\n\n
 https://sietareu.org/events/disruption-or-division-deib-in-the-age-of-popu
 lism-and-techno-elitism/
CATEGORIES:Webinar
END:VEVENT
BEGIN:VTIMEZONE
TZID:Europe/Amsterdam
X-LIC-LOCATION:Europe/Amsterdam
BEGIN:DAYLIGHT
DTSTART:20250330T030000
TZOFFSETFROM:+0100
TZOFFSETTO:+0200
TZNAME:CEST
END:DAYLIGHT
END:VTIMEZONE
END:VCALENDAR