BEGIN:VCALENDAR
VERSION:2.0
PRODID:-//wp-events-plugin.com//7.2.3.1//EN
TZID:Europe/Berlin
X-WR-TIMEZONE:Europe/Berlin
BEGIN:VEVENT
UID:230@sietareu.org
DTSTART;TZID=Europe/Amsterdam:20250602T180000
DTEND;TZID=Europe/Amsterdam:20250602T190000
DTSTAMP:20250517T094821Z
URL:https://sietareu.org/events/discover-the-art-of-storytelling-across-cu
 ltures/
SUMMARY:Discover “The Art of Storytelling Across Cultures”
DESCRIPTION:Discover “The Art of Storytelling Across Cultures” with Joa
 nna Sell – Live on Zoom! Join us on Monday\, 2nd of June 2025\, from 18:
 00 to 19:00 CET for an engaging and interactive session with Joanna Sell\,
  cross-cultural coach\, trainer\, and author of The Art of Storytelling Ac
 ross Cultures. Learn how storytelling can bridge cultural gaps\,...\n\nhtt
 ps://sietareu.org/events/discover-the-art-of-storytelling-across-cultures/
CATEGORIES:Webinar
END:VEVENT
BEGIN:VTIMEZONE
TZID:Europe/Amsterdam
X-LIC-LOCATION:Europe/Amsterdam
BEGIN:DAYLIGHT
DTSTART:20250330T030000
TZOFFSETFROM:+0100
TZOFFSETTO:+0200
TZNAME:CEST
END:DAYLIGHT
END:VTIMEZONE
END:VCALENDAR