BEGIN:VCALENDAR
VERSION:2.0
PRODID:-//wp-events-plugin.com//7.2.3.1//EN
TZID:Europe/Berlin
X-WR-TIMEZONE:Europe/Berlin
BEGIN:VEVENT
UID:161@sietareu.org
DTSTART;TZID=Europe/Berlin:20231116T190000
DTEND;TZID=Europe/Berlin:20231116T200000
DTSTAMP:20231110T155256Z
URL:https://sietareu.org/events/developing-diversity-competence/
SUMMARY:Developing diversity competence. And why we cannot afford to neglec
 t it.   
DESCRIPTION:REGISTER HERE Diversity competence is a key competence in today
 's interconnected world. There is a lot of talk about Diversity\, Equity a
 nd Inclusion (DEI) in business at the systemic change level i.e.\, employm
 ent policy\, renumeration\, gender parity in management\, etc.   Much le
 ss attention is paid to building the necessary competences of people in th
 e organizations...\n\nhttps://sietareu.org/events/developing-diversity-com
 petence/
ATTACH;FMTTYPE=image/jpeg:https://sietareu.org/wp-content/uploads/iconWebi
 nar300.png
CATEGORIES:Webinar
LOCATION:https://us02web.zoom.us/meeting/register/tZYuf-uuqzkpG9R00em5Es1Lz
 -TPD2PJdJMM
END:VEVENT
BEGIN:VTIMEZONE
TZID:Europe/Berlin
X-LIC-LOCATION:Europe/Berlin
BEGIN:STANDARD
DTSTART:20231029T020000
TZOFFSETFROM:+0200
TZOFFSETTO:+0100
TZNAME:CET
END:STANDARD
END:VTIMEZONE
END:VCALENDAR