BEGIN:VCALENDAR
VERSION:2.0
PRODID:-//wp-events-plugin.com//7.2.3.1//EN
TZID:Europe/Berlin
X-WR-TIMEZONE:Europe/Berlin
BEGIN:VEVENT
UID:70@sietareu.org
DTSTART;TZID=Europe/Berlin:20220321T170000
DTEND;TZID=Europe/Berlin:20220321T183000
DTSTAMP:20220316T161325Z
URL:https://sietareu.org/events/detoxifying-masculinity-the-unspoken-dei-c
 hallenge/
SUMMARY:Detoxifying Masculinity - the unspoken DEI Challenge
DESCRIPTION:Detoxifying Masculinity - the unspoken DEI Challenge facilitate
 d by Dr. George F. Simons and Teresa Mroczek We will introduce the diversi
 ty challenge of toxic masculinity and discuss it with a game played in bre
 akout groups. This game’s dynamics unfetter the male prowess and women's
  support to address the stunting cultural beliefs of what it means...\n\nh
 ttps://sietareu.org/events/detoxifying-masculinity-the-unspoken-dei-challe
 nge/
ATTACH;FMTTYPE=image/jpeg:https://sietareu.org/wp-content/uploads/iconPlay
 ground300.png
CATEGORIES:Intercultural Playground
END:VEVENT
BEGIN:VTIMEZONE
TZID:Europe/Berlin
X-LIC-LOCATION:Europe/Berlin
BEGIN:STANDARD
DTSTART:20211031T020000
TZOFFSETFROM:+0200
TZOFFSETTO:+0100
TZNAME:CET
END:STANDARD
END:VTIMEZONE
END:VCALENDAR