BEGIN:VCALENDAR
VERSION:2.0
PRODID:-//wp-events-plugin.com//7.2.3.1//EN
TZID:Europe/Berlin
X-WR-TIMEZONE:Europe/Berlin
BEGIN:VEVENT
UID:87@sietareu.org
DTSTART;TZID=Europe/Berlin:20221123T180000
DTEND;TZID=Europe/Berlin:20221123T190000
DTSTAMP:20220324T082823Z
URL:https://sietareu.org/events/demystifying-chinese-leadership-culture-fo
 r-the-west/
SUMMARY:Demystifying Chinese leadership culture for the West
DESCRIPTION:China's intensifying role in international economic and busines
 s affairs creates perfect storms. The country's growing importance in glob
 al manufacturing\, supply chains\, research and the solution of gargantuan
  issues like global warming coincides with scarce information\, clashing v
 alues and mutual misunderstanding. 20-year China resident East-West Leader
 ship coach &amp\; consultant Gabor Holch explains how tradition and ambiti
 on...\n\nhttps://sietareu.org/events/demystifying-chinese-leadership-cultu
 re-for-the-west/
ATTACH;FMTTYPE=image/jpeg:https://sietareu.org/wp-content/uploads/iconWebi
 nar300.png
CATEGORIES:Webinar
END:VEVENT
BEGIN:VTIMEZONE
TZID:Europe/Berlin
X-LIC-LOCATION:Europe/Berlin
BEGIN:STANDARD
DTSTART:20221030T020000
TZOFFSETFROM:+0200
TZOFFSETTO:+0100
TZNAME:CET
END:STANDARD
END:VTIMEZONE
END:VCALENDAR