BEGIN:VCALENDAR
VERSION:2.0
PRODID:-//wp-events-plugin.com//7.2.3.1//EN
TZID:Europe/Berlin
X-WR-TIMEZONE:Europe/Berlin
BEGIN:VEVENT
UID:175@sietareu.org
DTSTART;TZID=Europe/Berlin:20240227T180000
DTEND;TZID=Europe/Berlin:20240227T191500
DTSTAMP:20240214T095312Z
URL:https://sietareu.org/events/deib-worksplace-challenges/
SUMMARY:Addressing the DEIB Challenges and Trends in the Workplace
DESCRIPTION:The Leading SIETAR Global DEIB Learning series is an online tra
 ining program which aims to enhance knowledge and skills about DEIB and it
 s intersectionality. In SIETAR People are at the heart of our organization
 . We do believe DEIB is essential to achieve sustainable objectives and dr
 ive improvement. SIETAR DEIB Learning series is dedicated to providing...\
 n\nhttps://sietareu.org/events/deib-worksplace-challenges/
CATEGORIES:DEIB Learning Series
END:VEVENT
BEGIN:VTIMEZONE
TZID:Europe/Berlin
X-LIC-LOCATION:Europe/Berlin
BEGIN:STANDARD
DTSTART:20231029T020000
TZOFFSETFROM:+0200
TZOFFSETTO:+0100
TZNAME:CET
END:STANDARD
END:VTIMEZONE
END:VCALENDAR