BEGIN:VCALENDAR
VERSION:2.0
PRODID:-//wp-events-plugin.com//7.2.3.1//EN
TZID:Europe/Berlin
X-WR-TIMEZONE:Europe/Berlin
BEGIN:VEVENT
UID:177@sietareu.org
DTSTART;TZID=Europe/Berlin:20240327T180000
DTEND;TZID=Europe/Berlin:20240327T191500
DTSTAMP:20240323T081306Z
URL:https://sietareu.org/events/deib-unlocking-innovation/
SUMMARY:Unlocking Innovation and Creativity in Teams Using DEIB Strategies
DESCRIPTION:Please register here #3 SIETAR Europa's Diversity\, Equity\, In
 clusion\, and Belonging Learning Series "Unlocking Innovation and Creativi
 ty in Teams Using DEIB Strategies" Mark your calendars for March 27th\, fr
 om 18:00 to 19:15 CET\, as we present our strategic DEIB training initiati
 ve\, aimed at cultivating active and actionable approaches to Diversity\, 
 Equity\, Inclusion\, and Belonging (DEIB)...\n\nhttps://sietareu.org/event
 s/deib-unlocking-innovation/
CATEGORIES:DEIB Learning Series
END:VEVENT
BEGIN:VTIMEZONE
TZID:Europe/Berlin
X-LIC-LOCATION:Europe/Berlin
BEGIN:STANDARD
DTSTART:20231029T020000
TZOFFSETFROM:+0200
TZOFFSETTO:+0100
TZNAME:CET
END:STANDARD
END:VTIMEZONE
END:VCALENDAR