BEGIN:VCALENDAR
VERSION:2.0
PRODID:-//wp-events-plugin.com//7.2.3.1//EN
TZID:Europe/Berlin
X-WR-TIMEZONE:Europe/Berlin
BEGIN:VEVENT
UID:168@sietareu.org
DTSTART;TZID=Europe/Berlin:20240123T180000
DTEND;TZID=Europe/Berlin:20240123T200000
DTSTAMP:20240205T160403Z
URL:https://sietareu.org/events/deib-learning-series-kick-off/
SUMMARY:NEW! DEIB Learning Series Kick Off
DESCRIPTION:Please register here : https://us02web.zoom.us/meeting/register
 /tZMuduusrDIpHdO3S6y70I_clbcM8wcyJ45w HOW CAN WE AS INTERCULTURALISTS IMPR
 OVE DEIB IN THE WORKSPACE? &nbsp\; SIETAR Europa kicks off the DIVERSITY\,
  EQUITY\, INCLUSION AND BELONGING LEARNING SERIES\, a monthly 70min Webina
 r. It's a strategic DEIB training who aims to foster an active\, actionabl
 e DEIB to the workplace. DEIB are crucial elements to SIETAR Europa...\n\n
 https://sietareu.org/events/deib-learning-series-kick-off/
CATEGORIES:DEIB Learning Series
END:VEVENT
BEGIN:VTIMEZONE
TZID:Europe/Berlin
X-LIC-LOCATION:Europe/Berlin
BEGIN:STANDARD
DTSTART:20231029T020000
TZOFFSETFROM:+0200
TZOFFSETTO:+0100
TZNAME:CET
END:STANDARD
END:VTIMEZONE
END:VCALENDAR