BEGIN:VCALENDAR
VERSION:2.0
PRODID:-//wp-events-plugin.com//7.2.3.1//EN
TZID:Europe/Berlin
X-WR-TIMEZONE:Europe/Berlin
BEGIN:VEVENT
UID:183@sietareu.org
DTSTART;TZID=Europe/Berlin:20240425T180000
DTEND;TZID=Europe/Berlin:20240425T191500
DTSTAMP:20240418T085927Z
URL:https://sietareu.org/events/deib-cross-industry-partnerships/
SUMMARY:How are Cross-Industry Partnerships Enhancing the Effectiveness of 
 DEIB Efforts in the Workplace?
DESCRIPTION:How are Cross-Industry Partnerships Enhancing the Effectiveness
  of DEIB Efforts in the Workplace? Explore the Transformative Power of Cro
 ss-Industry Collaborations April 25th | ⏰ 18:00 - 19:15 Join us for a gr
 oundbreaking panel discussion that delves into how partnerships across dif
 ferent sectors are not only enhancing but also innovating Diversity\, Equi
 ty\, Inclusion\, and Belonging (DEIB)...\n\nhttps://sietareu.org/events/de
 ib-cross-industry-partnerships/
CATEGORIES:DEIB Learning Series
END:VEVENT
BEGIN:VTIMEZONE
TZID:Europe/Berlin
X-LIC-LOCATION:Europe/Berlin
BEGIN:DAYLIGHT
DTSTART:20240331T030000
TZOFFSETFROM:+0100
TZOFFSETTO:+0200
TZNAME:CEST
END:DAYLIGHT
END:VTIMEZONE
END:VCALENDAR