BEGIN:VCALENDAR
VERSION:2.0
PRODID:-//wp-events-plugin.com//7.2.3.1//EN
TZID:Europe/Berlin
X-WR-TIMEZONE:Europe/Berlin
BEGIN:VEVENT
UID:106@sietareu.org
DTSTART;TZID=Europe/Berlin:20221205T150000
DTEND;TZID=Europe/Berlin:20221205T160000
DTSTAMP:20221202T140753Z
URL:https://sietareu.org/events/december-meetup/
SUMMARY:Can People 'Become Japanese' or Any Nationality for that Matter?
DESCRIPTION:We are in for a wonderful discussion with Dr. Adam Komisarof\
 , Professor in Keio University\, Tokyo\, Japan. Adam has been a SIETAR me
 mber in Japan for 25 years. The title of his presentation is: “Can Peop
 le 'Become Japanese\,' or Any Nationality for that Matter?  Looking Throu
 gh a Lens of Social Markers of Acceptance.” This afternoon presentation 
 will focus upon...\n\nhttps://sietareu.org/events/december-meetup/
ATTACH;FMTTYPE=image/jpeg:https://sietareu.org/wp-content/uploads/iconDMee
 tUp300a.png
CATEGORIES:DMeetUp
END:VEVENT
BEGIN:VTIMEZONE
TZID:Europe/Berlin
X-LIC-LOCATION:Europe/Berlin
BEGIN:STANDARD
DTSTART:20221030T020000
TZOFFSETFROM:+0200
TZOFFSETTO:+0100
TZNAME:CET
END:STANDARD
END:VTIMEZONE
END:VCALENDAR