BEGIN:VCALENDAR
VERSION:2.0
PRODID:-//wp-events-plugin.com//7.2.3.1//EN
TZID:Europe/Berlin
X-WR-TIMEZONE:Europe/Berlin
BEGIN:VEVENT
UID:151@sietareu.org
DTSTART;TZID=Europe/Berlin:20231204T140000
DTEND;TZID=Europe/Berlin:20231204T150000
DTSTAMP:20231204T153418Z
URL:https://sietareu.org/events/dec23-dmeetup/
SUMMARY:DMeetUp w/ Pia Moberg: Managing Effective and Efficient Meetings
DESCRIPTION:We all know meetings should be more effective and efficient to 
 feel meaningful. Managing such meetings is a critical skill that can be le
 arned. Pia Moberg is the culture and meetings specialist who shows us how!
   Her latest book “Meeting Cookbook – Leading Meetings in a Global an
 d Online World” addresses the “HOW” in chairing...\n\nhttps://sietar
 eu.org/events/dec23-dmeetup/
ATTACH;FMTTYPE=image/jpeg:https://sietareu.org/wp-content/uploads/iconDMee
 tUp300a.png
CATEGORIES:DMeetUp
END:VEVENT
BEGIN:VTIMEZONE
TZID:Europe/Berlin
X-LIC-LOCATION:Europe/Berlin
BEGIN:STANDARD
DTSTART:20231029T020000
TZOFFSETFROM:+0200
TZOFFSETTO:+0100
TZNAME:CET
END:STANDARD
END:VTIMEZONE
END:VCALENDAR