BEGIN:VCALENDAR
VERSION:2.0
PRODID:-//wp-events-plugin.com//7.2.3.1//EN
TZID:Europe/Berlin
X-WR-TIMEZONE:Europe/Berlin
BEGIN:VEVENT
UID:214@sietareu.org
DTSTART;TZID=Europe/Berlin:20241022T150000
DTEND;TZID=Europe/Berlin:20241022T154500
DTSTAMP:20241003T085631Z
URL:https://sietareu.org/events/dd-club-9/
SUMMARY:D&D Club #9: Do you have a role model in the intercultural world?
DESCRIPTION:D&amp\;D (Discuss and Debate) Club Question: Do you have a role
  model in the intercultural world? &nbsp\; Please register at https://us02
 web.zoom.us/meeting/register/tZ0rduyhrD4tEtWyaE-UMHXYleSlmz2EZd1j &nbsp\; 
 &nbsp\; D&amp\;D (Discuss and Debate) club is an up to 45-minute free-flow
  open-ended exchange that allows participants to state opinions\, agree or
  disagree\, negotiate and hopefully (but not necessarily) reconcile opposi
 te standpoints. &nbsp\;\n\nhttps://sietareu.org/events/dd-club-9/
CATEGORIES:Discuss and Debate
END:VEVENT
BEGIN:VTIMEZONE
TZID:Europe/Berlin
X-LIC-LOCATION:Europe/Berlin
BEGIN:DAYLIGHT
DTSTART:20240331T030000
TZOFFSETFROM:+0100
TZOFFSETTO:+0200
TZNAME:CEST
END:DAYLIGHT
END:VTIMEZONE
END:VCALENDAR