BEGIN:VCALENDAR
VERSION:2.0
PRODID:-//wp-events-plugin.com//7.2.3.1//EN
TZID:Europe/Berlin
X-WR-TIMEZONE:Europe/Berlin
BEGIN:VEVENT
UID:210@sietareu.org
DTSTART;TZID=Europe/Berlin:20240916T150000
DTEND;TZID=Europe/Berlin:20240916T154500
DTSTAMP:20240903T142652Z
URL:https://sietareu.org/events/dd-club-8/
SUMMARY:D&D Club #8: Intercultural Competence: Do our participants use it a
 fter they leave the room?
DESCRIPTION:D&amp\;D (Discuss and Debate) Club Question: Intercultural Comp
 etence: Do our participants use it after they leave the room? &nbsp\; To p
 articipate\, please\, register at https://us02web.zoom.us/meeting/register
 /tZ0tduypqzksEt0KJn_u0Hqz7q77BhihbEiv &nbsp\; D&amp\;D (Discuss and Debate
 ) club is an up to 45-minute free-flow open-ended exchange that allows par
 ticipants to state opinions\, agree or disagree\, negotiate and hopefully 
 (but not necessarily) reconcile...\n\nhttps://sietareu.org/events/dd-club-
 8/
CATEGORIES:Discuss and Debate
END:VEVENT
BEGIN:VTIMEZONE
TZID:Europe/Berlin
X-LIC-LOCATION:Europe/Berlin
BEGIN:DAYLIGHT
DTSTART:20240331T030000
TZOFFSETFROM:+0100
TZOFFSETTO:+0200
TZNAME:CEST
END:DAYLIGHT
END:VTIMEZONE
END:VCALENDAR