BEGIN:VCALENDAR
VERSION:2.0
PRODID:-//wp-events-plugin.com//7.2.3.1//EN
TZID:Europe/Berlin
X-WR-TIMEZONE:Europe/Berlin
BEGIN:VEVENT
UID:202@sietareu.org
DTSTART;TZID=Europe/Berlin:20240725T150000
DTEND;TZID=Europe/Berlin:20240725T154500
DTSTAMP:20240903T142818Z
URL:https://sietareu.org/events/dd-club-7/
SUMMARY:D&D Club #7: Do interculturalists have better intercultural skills 
 than other people?
DESCRIPTION:D&amp\;D (Discuss and Debate) Club Question: Do interculturalis
 ts have better intercultural skills than other people? &nbsp\; To particip
 ate\, please\, register at https://us02web.zoom.us/meeting/register/tZ0tdu
 ypqzksEt0KJn_u0Hqz7q77BhihbEiv &nbsp\; D&amp\;D (Discuss and Debate) club 
 is an up to 45-minute free-flow open-ended exchange that allows participan
 ts to state opinions\, agree or disagree\, negotiate and hopefully (but no
 t necessarily) reconcile opposite standpoints. &nbsp\;\n\nhttps://sietareu
 .org/events/dd-club-7/
CATEGORIES:Discuss and Debate
END:VEVENT
BEGIN:VTIMEZONE
TZID:Europe/Berlin
X-LIC-LOCATION:Europe/Berlin
BEGIN:DAYLIGHT
DTSTART:20240331T030000
TZOFFSETFROM:+0100
TZOFFSETTO:+0200
TZNAME:CEST
END:DAYLIGHT
END:VTIMEZONE
END:VCALENDAR