BEGIN:VCALENDAR
VERSION:2.0
PRODID:-//wp-events-plugin.com//7.2.3.1//EN
TZID:Europe/Berlin
X-WR-TIMEZONE:Europe/Berlin
BEGIN:VEVENT
UID:201@sietareu.org
DTSTART;TZID=Europe/Berlin:20240627T150000
DTEND;TZID=Europe/Berlin:20240627T154500
DTSTAMP:20240615T113110Z
URL:https://sietareu.org/events/dd-club-6/
SUMMARY:D&D Club #6:  Do you sometimes feel exhausted trying to bridge cult
 ural gaps?
DESCRIPTION:D&amp\;D (Discuss and Debate) club Question: Do you sometimes f
 eel exhausted trying to bridge cultural gaps? Dear SIETARians\, If you are
  not too tired of discussions this month\, please plan to join us for the 
 D&amp\;D #6: “Do you sometimes feel exhausted trying to bridge cultural 
 gaps?” We  are meeting on the 27th of June\,...\n\nhttps://sietareu.org
 /events/dd-club-6/
CATEGORIES:Discuss and Debate
END:VEVENT
BEGIN:VTIMEZONE
TZID:Europe/Berlin
X-LIC-LOCATION:Europe/Berlin
BEGIN:DAYLIGHT
DTSTART:20240331T030000
TZOFFSETFROM:+0100
TZOFFSETTO:+0200
TZNAME:CEST
END:DAYLIGHT
END:VTIMEZONE
END:VCALENDAR