BEGIN:VCALENDAR
VERSION:2.0
PRODID:-//wp-events-plugin.com//7.2.3.1//EN
TZID:Europe/Berlin
X-WR-TIMEZONE:Europe/Berlin
BEGIN:VEVENT
UID:192@sietareu.org
DTSTART;TZID=Europe/Berlin:20240522T150000
DTEND;TZID=Europe/Berlin:20240522T154500
DTSTAMP:20240506T145413Z
URL:https://sietareu.org/events/dd-club-5/
SUMMARY:D&D Club #5:  Global Mindset. Does it exist?
DESCRIPTION:D&amp\;D (Discuss and Debate) club Question: Global Mindset. Do
 es it exist? Dear SIETARians\, Those of you who have already experienced o
 ur D&amp\;D club know that it’s a discussion with an open end. We discus
 s\, agree and disagree and then leave the Zoom space with no ready recipes
  or unanimously shared conclusions. If it sounds a...\n\nhttps://sietareu.
 org/events/dd-club-5/
CATEGORIES:Discuss and Debate
END:VEVENT
BEGIN:VTIMEZONE
TZID:Europe/Berlin
X-LIC-LOCATION:Europe/Berlin
BEGIN:DAYLIGHT
DTSTART:20240331T030000
TZOFFSETFROM:+0100
TZOFFSETTO:+0200
TZNAME:CEST
END:DAYLIGHT
END:VTIMEZONE
END:VCALENDAR