BEGIN:VCALENDAR
VERSION:2.0
PRODID:-//wp-events-plugin.com//7.2.3.1//EN
TZID:Europe/Berlin
X-WR-TIMEZONE:Europe/Berlin
BEGIN:VEVENT
UID:182@sietareu.org
DTSTART;TZID=Europe/Berlin:20240419T150000
DTEND;TZID=Europe/Berlin:20240419T154500
DTSTAMP:20240406T181656Z
URL:https://sietareu.org/events/dd-club-4/
SUMMARY:D&D Club #4:  Dimensions we use for intercultural education and tra
 ining
DESCRIPTION:D&amp\;D (Discuss and Debate) club Question: Dimensions we use 
 for intercultural education and training\; are they 'more helpful' or 'mor
 e unhelpful'? Dear SIETARians\, At our D&amp\;D club #3\, we discussed if 
 empathy was a talent or a skill. Most of the participants answered “both
 ”. And I discovered that I should learn to formulate questions better!..
 .\n\nhttps://sietareu.org/events/dd-club-4/
CATEGORIES:Discuss and Debate
END:VEVENT
BEGIN:VTIMEZONE
TZID:Europe/Berlin
X-LIC-LOCATION:Europe/Berlin
BEGIN:DAYLIGHT
DTSTART:20240331T030000
TZOFFSETFROM:+0100
TZOFFSETTO:+0200
TZNAME:CEST
END:DAYLIGHT
END:VTIMEZONE
END:VCALENDAR