BEGIN:VCALENDAR
VERSION:2.0
PRODID:-//wp-events-plugin.com//7.2.3.1//EN
TZID:Europe/Berlin
X-WR-TIMEZONE:Europe/Berlin
BEGIN:VEVENT
UID:172@sietareu.org
DTSTART;TZID=Europe/Berlin:20240222T150000
DTEND;TZID=Europe/Berlin:20240222T154500
DTSTAMP:20240225T155133Z
URL:https://sietareu.org/events/dd-club-2/
SUMMARY:D&D Club #2: Can we create a conflict by trying to be inclusive?
DESCRIPTION:D&amp\;D (Discuss and Debate) club Question: Can we create a co
 nflict by trying to be inclusive? This platform allows participants to sta
 te opinions\, agree or disagree\, negotiate and hopefully (but not necessa
 rily) reconcile opposite standpoints. D&amp\;D is a free-flow 45-minute ex
 change\, with no presentations but just a quick case to kick off the discu
 ssion. If...\n\nhttps://sietareu.org/events/dd-club-2/
CATEGORIES:Discuss and Debate
END:VEVENT
BEGIN:VTIMEZONE
TZID:Europe/Berlin
X-LIC-LOCATION:Europe/Berlin
BEGIN:STANDARD
DTSTART:20231029T020000
TZOFFSETFROM:+0200
TZOFFSETTO:+0100
TZNAME:CET
END:STANDARD
END:VTIMEZONE
END:VCALENDAR