BEGIN:VCALENDAR
VERSION:2.0
PRODID:-//wp-events-plugin.com//7.2.3.1//EN
TZID:Europe/Berlin
X-WR-TIMEZONE:Europe/Berlin
BEGIN:VEVENT
UID:227@sietareu.org
DTSTART;TZID=Europe/Berlin:20250424T150000
DTEND;TZID=Europe/Berlin:20250424T154500
DTSTAMP:20250421T064611Z
URL:https://sietareu.org/events/dd-club-14/
SUMMARY:D&D Club #14: intercultural\, multicultural\, cross-cultural?
DESCRIPTION:D&amp\;D (Discuss and Debate) Club Question: "Can you explain t
 he difference between intercultural\, multicultural and cross-cultural?" D
 ear colleagues\, "Can you explain the difference between intercultural\, m
 ulticultural and cross-cultural?" For some of you\, it must be an easy que
 stion to answer\, while others are unsure or doubt the difference. Whateve
 r group you belong to\, come to...\n\nhttps://sietareu.org/events/dd-club-
 14/
CATEGORIES:Discuss and Debate
END:VEVENT
BEGIN:VTIMEZONE
TZID:Europe/Berlin
X-LIC-LOCATION:Europe/Berlin
BEGIN:DAYLIGHT
DTSTART:20250330T030000
TZOFFSETFROM:+0100
TZOFFSETTO:+0200
TZNAME:CEST
END:DAYLIGHT
END:VTIMEZONE
END:VCALENDAR