BEGIN:VCALENDAR
VERSION:2.0
PRODID:-//wp-events-plugin.com//7.2.3.1//EN
TZID:Europe/Berlin
X-WR-TIMEZONE:Europe/Berlin
BEGIN:VEVENT
UID:223@sietareu.org
DTSTART;TZID=Europe/Berlin:20250327T150000
DTEND;TZID=Europe/Berlin:20250327T154500
DTSTAMP:20250313T153734Z
URL:https://sietareu.org/events/dd-club-13/
SUMMARY:D&D Club #13: Should Intercultural Studies curriculum be everywhere
  the same?
DESCRIPTION:D&amp\;D (Discuss and Debate) Club Question: Should Intercultur
 al Studies curriculum be everywhere the same? Dear colleagues\, Some of us
  think the question above is a rhetorical one. What about you? D&amp\;D #1
 3 on the 27th of March\, at 3 p.m. CET: Thank you\, Dr. Lidia Wiśniewska 
 for questioning\, and Joe Kearn for supporting the interest😊!...\n\nhtt
 ps://sietareu.org/events/dd-club-13/
CATEGORIES:Discuss and Debate
END:VEVENT
BEGIN:VTIMEZONE
TZID:Europe/Berlin
X-LIC-LOCATION:Europe/Berlin
BEGIN:STANDARD
DTSTART:20241027T020000
TZOFFSETFROM:+0200
TZOFFSETTO:+0100
TZNAME:CET
END:STANDARD
END:VTIMEZONE
END:VCALENDAR