BEGIN:VCALENDAR
VERSION:2.0
PRODID:-//wp-events-plugin.com//7.2.3.1//EN
TZID:Europe/Berlin
X-WR-TIMEZONE:Europe/Berlin
BEGIN:VEVENT
UID:220@sietareu.org
DTSTART;TZID=Europe/Berlin:20250130T150000
DTEND;TZID=Europe/Berlin:20250130T154500
DTSTAMP:20250218T082048Z
URL:https://sietareu.org/events/dd-club-11/
SUMMARY:D&D Club #11: Does your tolerance have limits?
DESCRIPTION:Dear colleagues\, The D&amp\;D (discuss and debate) club wishes
  you a Happy New Year and after the December break gladly announces our fi
 rst meet-up in 2025. To recollect\, D&amp\;D club 2024 agendas included: H
 ave interculturalists unlearned to argue and debate? Can we create conflic
 t by trying to be inclusive? Empathy. Is it a talent or...\n\nhttps://siet
 areu.org/events/dd-club-11/
CATEGORIES:Discuss and Debate
END:VEVENT
BEGIN:VTIMEZONE
TZID:Europe/Berlin
X-LIC-LOCATION:Europe/Berlin
BEGIN:STANDARD
DTSTART:20241027T020000
TZOFFSETFROM:+0200
TZOFFSETTO:+0100
TZNAME:CET
END:STANDARD
END:VTIMEZONE
END:VCALENDAR