BEGIN:VCALENDAR
VERSION:2.0
PRODID:-//wp-events-plugin.com//7.2.3.1//EN
TZID:Europe/Berlin
X-WR-TIMEZONE:Europe/Berlin
BEGIN:VEVENT
UID:216@sietareu.org
DTSTART;TZID=Europe/Berlin:20241119T150000
DTEND;TZID=Europe/Berlin:20241119T154500
DTSTAMP:20241115T113053Z
URL:https://sietareu.org/events/dd-club-10/
SUMMARY:D&D Club #10: Do you manage your biases?
DESCRIPTION:D&amp\;D (Discuss and Debate) Club Question: Do you manage your
  biases? No person without a bias😊. Are you familiar with yours? Do you
  manage them? We are discussing this question at D&amp\;D #10 on the 19th 
 of November\, at 3 p.m. CET. If interested\, please\, register at https://
 us02web.zoom.us/meeting/register/tZwvc-yhpz8uGdMJgBTzrsEUaZq1J42RKmHH &nbs
 p\; &nbsp\; &nbsp\; D&amp\;D (Discuss and Debate)...\n\nhttps://sietareu.o
 rg/events/dd-club-10/
CATEGORIES:Discuss and Debate
END:VEVENT
BEGIN:VTIMEZONE
TZID:Europe/Berlin
X-LIC-LOCATION:Europe/Berlin
BEGIN:STANDARD
DTSTART:20241027T020000
TZOFFSETFROM:+0200
TZOFFSETTO:+0100
TZNAME:CET
END:STANDARD
END:VTIMEZONE
END:VCALENDAR