BEGIN:VCALENDAR
VERSION:2.0
PRODID:-//wp-events-plugin.com//7.2.3.1//EN
TZID:Europe/Berlin
X-WR-TIMEZONE:Europe/Berlin
BEGIN:VEVENT
UID:169@sietareu.org
DTSTART;TZID=Europe/Berlin:20240124T150000
DTEND;TZID=Europe/Berlin:20240124T154500
DTSTAMP:20240225T155233Z
URL:https://sietareu.org/events/dd-club-1/
SUMMARY:NEW! Discuss and Debate Club
DESCRIPTION:Dear SIETARians\, A new year - a new initiative! In January let
 's experiment with a new meeting format - D&amp\;D (Discuss and Debate) cl
 ub. This platform allows participants to state opinions\, agree or disagre
 e\, negotiate and hopefully (but not necessarily) reconcile opposite stand
 points. D&amp\;D is a free-flow 45-minute exchange\, with no presentations
  but just a...\n\nhttps://sietareu.org/events/dd-club-1/
CATEGORIES:Discuss and Debate
END:VEVENT
BEGIN:VTIMEZONE
TZID:Europe/Berlin
X-LIC-LOCATION:Europe/Berlin
BEGIN:STANDARD
DTSTART:20231029T020000
TZOFFSETFROM:+0200
TZOFFSETTO:+0100
TZNAME:CET
END:STANDARD
END:VTIMEZONE
END:VCALENDAR