BEGIN:VCALENDAR
VERSION:2.0
PRODID:-//wp-events-plugin.com//7.2.3.1//EN
TZID:Europe/Berlin
X-WR-TIMEZONE:Europe/Berlin
BEGIN:VEVENT
UID:135@sietareu.org
DTSTART;TZID=Europe/Berlin:20230330T180000
DTEND;TZID=Europe/Berlin:20230330T190000
DTSTAMP:20230325T180710Z
URL:https://sietareu.org/events/cultural-adjustment-a-continuous-process/
SUMMARY:Cultural Adjustment: A Continuous Process
DESCRIPTION:Cultural adjustment a continuous process. People might assume m
 oving to a new country and culture is a straightforward process\, but noth
 ing could be far from the truth. Naturally cultures are diverse and differ
 ent\, even within the same country. The time it takes to get used to life 
 in a new culture is strongly  contested in...\n\nhttps://sietareu.org/eve
 nts/cultural-adjustment-a-continuous-process/
ATTACH;FMTTYPE=image/jpeg:https://sietareu.org/wp-content/uploads/iconWebi
 nar300.png
CATEGORIES:Webinar
END:VEVENT
BEGIN:VTIMEZONE
TZID:Europe/Berlin
X-LIC-LOCATION:Europe/Berlin
BEGIN:DAYLIGHT
DTSTART:20230326T030000
TZOFFSETFROM:+0100
TZOFFSETTO:+0200
TZNAME:CEST
END:DAYLIGHT
END:VTIMEZONE
END:VCALENDAR