BEGIN:VCALENDAR
VERSION:2.0
PRODID:-//wp-events-plugin.com//7.2.3.1//EN
TZID:Europe/Berlin
X-WR-TIMEZONE:Europe/Berlin
BEGIN:VEVENT
UID:193@sietareu.org
DTSTART;TZID=Europe/Berlin:20240606T090000
DTEND;TZID=Europe/Berlin:20240606T100000
DTSTAMP:20240713T181321Z
URL:https://sietareu.org/events/congress-livestream-the-project-of-critica
 l-intercultural-communication-thomas-k-nakayama/
SUMMARY:[Congress LiveStream] The Project of Critical Intercultural Communi
 cation\, Prof Thomas K. Nakayama
DESCRIPTION:Critical approaches to intercultural communication have asked d
 ifferent kinds of questions about intercultural interaction that augment t
 he more traditional approaches.  Emphasizing historical relationships\, d
 ifferential power relations and soft power between cultures.  Over nearly
  30 years\, this approach to analyzing intercultural communication has blo
 ssomed and remains a vital component of this area of study.  What are...\
 n\nhttps://sietareu.org/events/congress-livestream-the-project-of-critical
 -intercultural-communication-thomas-k-nakayama/
CATEGORIES:Congress 2024
END:VEVENT
BEGIN:VTIMEZONE
TZID:Europe/Berlin
X-LIC-LOCATION:Europe/Berlin
BEGIN:DAYLIGHT
DTSTART:20240331T030000
TZOFFSETFROM:+0100
TZOFFSETTO:+0200
TZNAME:CEST
END:DAYLIGHT
END:VTIMEZONE
END:VCALENDAR