BEGIN:VCALENDAR
VERSION:2.0
PRODID:-//wp-events-plugin.com//7.2.3.1//EN
TZID:Europe/Berlin
X-WR-TIMEZONE:Europe/Berlin
BEGIN:VEVENT
UID:200@sietareu.org
DTSTART;TZID=Europe/Berlin:20240607T090000
DTEND;TZID=Europe/Berlin:20240607T100000
DTSTAMP:20240713T181351Z
URL:https://sietareu.org/events/congress-livestream-friday-fireworks/
SUMMARY:[Congress LiveStream] Friday Fireworks
DESCRIPTION:Get the day started with a few insightful fireworks - short ses
 sions to get us thinking. Be inspired by Vincent Merk Robert Gibson Floren
 ce Chabert d'Hieres Matthieu Kollig View Recording on YouTube\n\nhttps://s
 ietareu.org/events/congress-livestream-friday-fireworks/
CATEGORIES:Congress 2024
END:VEVENT
BEGIN:VTIMEZONE
TZID:Europe/Berlin
X-LIC-LOCATION:Europe/Berlin
BEGIN:DAYLIGHT
DTSTART:20240331T030000
TZOFFSETFROM:+0100
TZOFFSETTO:+0200
TZNAME:CEST
END:DAYLIGHT
END:VTIMEZONE
END:VCALENDAR