BEGIN:VCALENDAR
VERSION:2.0
PRODID:-//wp-events-plugin.com//7.2.3.1//EN
TZID:Europe/Berlin
X-WR-TIMEZONE:Europe/Berlin
BEGIN:VEVENT
UID:194@sietareu.org
DTSTART;TZID=Europe/Berlin:20240606T180000
DTEND;TZID=Europe/Berlin:20240606T193000
DTSTAMP:20240713T181340Z
URL:https://sietareu.org/events/congress-livestream-anti-racism-the-what-w
 hy-and-how-dr-aminkeng-a-alemanji/
SUMMARY:[Congress LiveStream] From Antiracism to Antiracism Education—the
  What\, the Why and the How\, Dr Aminkeng A Alemanji
DESCRIPTION:View Recording on YouTube\n\nhttps://sietareu.org/events/congre
 ss-livestream-anti-racism-the-what-why-and-how-dr-aminkeng-a-alemanji/
CATEGORIES:Congress 2024
END:VEVENT
BEGIN:VTIMEZONE
TZID:Europe/Berlin
X-LIC-LOCATION:Europe/Berlin
BEGIN:DAYLIGHT
DTSTART:20240331T030000
TZOFFSETFROM:+0100
TZOFFSETTO:+0200
TZNAME:CEST
END:DAYLIGHT
END:VTIMEZONE
END:VCALENDAR