BEGIN:VCALENDAR
VERSION:2.0
PRODID:-//wp-events-plugin.com//7.2.3.1//EN
TZID:Europe/Berlin
X-WR-TIMEZONE:Europe/Berlin
BEGIN:VEVENT
UID:167@sietareu.org
DTSTART;TZID=Europe/Berlin:20240112T170000
DTEND;TZID=Europe/Berlin:20240112T180000
DTSTAMP:20240110T115614Z
URL:https://sietareu.org/events/challenge-of-decolonization/
SUMMARY:diversophy: Exploring the Challenge of Decolonization
DESCRIPTION:Decolonization is not achieved simply through the efforts that 
 bring about national and political independence for colonized peoples\, th
 ough it is important to understand the dynamics needed to bring this about
 . Though the struggle for freedom is often costly\, bloody\, and of long d
 uration\, it is not the end of the story. Even when independent...\n\nhttp
 s://sietareu.org/events/challenge-of-decolonization/
CATEGORIES:Intercultural Playground
END:VEVENT
BEGIN:VTIMEZONE
TZID:Europe/Berlin
X-LIC-LOCATION:Europe/Berlin
BEGIN:STANDARD
DTSTART:20231029T020000
TZOFFSETFROM:+0200
TZOFFSETTO:+0100
TZNAME:CET
END:STANDARD
END:VTIMEZONE
END:VCALENDAR