BEGIN:VCALENDAR
VERSION:2.0
PRODID:-//wp-events-plugin.com//7.2.3.1//EN
TZID:Europe/Berlin
X-WR-TIMEZONE:Europe/Berlin
BEGIN:VEVENT
UID:40@sietareu.org
DTSTART;TZID=Europe/Berlin:20220113T110000
DTEND;TZID=Europe/Berlin:20220113T114500
DTSTAMP:20220313T120409Z
URL:https://sietareu.org/events/cccbreak-202101/
SUMMARY:What is the role of the interculturalist in the fight against clima
 te change?
DESCRIPTION:Burning question: What is the role of the interculturalist in t
 he fight against climate change? Contributor: Linda Aspey\, Member of the 
 Climate Coaching Alliance and signatory of the open letter to the coaching
  community calling on them to step up to their role. Moderator: Camilla De
 gerth &nbsp\; You are asking yourself what CCCBreak stands for?...\n\nhttp
 s://sietareu.org/events/cccbreak-202101/
ATTACH;FMTTYPE=image/jpeg:https://sietareu.org/wp-content/uploads/Sietar_I
 cons_Tasse.png
CATEGORIES:CCC Break
END:VEVENT
BEGIN:VTIMEZONE
TZID:Europe/Berlin
X-LIC-LOCATION:Europe/Berlin
BEGIN:STANDARD
DTSTART:20211031T020000
TZOFFSETFROM:+0200
TZOFFSETTO:+0100
TZNAME:CET
END:STANDARD
END:VTIMEZONE
END:VCALENDAR