BEGIN:VCALENDAR
VERSION:2.0
PRODID:-//wp-events-plugin.com//7.2.3.1//EN
TZID:Europe/Berlin
X-WR-TIMEZONE:Europe/Berlin
BEGIN:VEVENT
UID:80@sietareu.org
DTSTART;TZID=Europe/Berlin:20220324T130000
DTEND;TZID=Europe/Berlin:20220324T140000
DTSTAMP:20220316T091110Z
URL:https://sietareu.org/events/cbm-march22/
SUMMARY:You wonder how the publications of you and your members could gain 
 more visibility in the intercultural field? There is great written content
  being created in your National SIETAR and you look for a way to make it p
 ublic? Are you looking to share your knowledge with fellow interculturalis
 ts and to interact more with the SIETAR community?
DESCRIPTION:Then\, you should check out SIETAR Europa’s new rolling platf
 orm “Curiously Intercultural”\, an audience-driven platform for the SI
 ETAR community and beyond. The platform builds on the work of the former S
 IETAR Europa Journal and went live in January 2022.Audience-driven means d
 riven by you\, our members and fellow interculturalists! We look to promot
 e an exchange among...\n\nhttps://sietareu.org/events/cbm-march22/
ATTACH;FMTTYPE=image/jpeg:https://sietareu.org/wp-content/uploads/iconCBM3
 00.png
CATEGORIES:Capacity Building Meetup
END:VEVENT
BEGIN:VTIMEZONE
TZID:Europe/Berlin
X-LIC-LOCATION:Europe/Berlin
BEGIN:STANDARD
DTSTART:20211031T020000
TZOFFSETFROM:+0200
TZOFFSETTO:+0100
TZNAME:CET
END:STANDARD
END:VTIMEZONE
END:VCALENDAR