BEGIN:VCALENDAR
VERSION:2.0
PRODID:-//wp-events-plugin.com//7.2.3.1//EN
TZID:Europe/Berlin
X-WR-TIMEZONE:Europe/Berlin
BEGIN:VEVENT
UID:231@sietareu.org
DTSTART;TZID=Europe/Amsterdam:20250612T180000
DTEND;TZID=Europe/Amsterdam:20250612T190000
DTSTAMP:20250523T064349Z
URL:https://sietareu.org/events/book-presentation-women-intersectionality-
 europe/
SUMMARY:Book Presentation: Women\, Intersectionality & Europe
DESCRIPTION:SIETAR Europa invites you to an inspiring Book Presentation How
  do identity and culture shape lived experiences in Europe today? And how 
 can cultural awareness drive inclusion across our societies? Join us on Ju
 ne 12 as we celebrate the launch of Women\, Intersectionality &amp\; Europ
 e\, the debut book by Tamara Makoni—inclusion and culture specialist and
 ...\n\nhttps://sietareu.org/events/book-presentation-women-intersectionali
 ty-europe/
CATEGORIES:Special Event
END:VEVENT
BEGIN:VTIMEZONE
TZID:Europe/Amsterdam
X-LIC-LOCATION:Europe/Amsterdam
BEGIN:DAYLIGHT
DTSTART:20250330T030000
TZOFFSETFROM:+0100
TZOFFSETTO:+0200
TZNAME:CEST
END:DAYLIGHT
END:VTIMEZONE
END:VCALENDAR